Workbook
Name 支払状況リスト: OFFSET(マスタ設定!$E$4,0,0,COUNTA(マスタ設定!$E$4:$E$103),1)
Name 支払方法リスト: OFFSET(マスタ設定!$A$4,0,0,COUNTA(マスタ設定!$A$4:$A$103),1)
Name 費目リスト: OFFSET(マスタ設定!$C$4,0,0,COUNTA(マスタ設定!$C$4:$C$103),1)

Sheet 使い方
A1: 使い方ガイド
A3: ◆ シート構成
A4: 支払管理表 | C4: 1件ずつ支払予定を入力する『メイン』シート。青色セルに入力するだけ。
A5: 月別集計 | C5: 1〜12月の支払額を自動集計。月別の動きを把握。
A6: マスタ設定 | C6: プルダウンの選択肢（支払方法・費目・支払状況）を管理。
A7: 使い方 | C7: 本シート。最初に一読してください。
A9: ◆ 基本の入力フロー
A10: STEP 1 | C10: 「支払管理表」シートを開き、青色セルに必要情報を入力（支払予定日・支払先・費目など）
A11: STEP 2 | C11: 支払予定額を入力（例: 150000）
A12: STEP 3 | C12: 支払が完了したら、支払日・支払額を入力。支払状況は自動で「支払済」に変わります。
A14: ◆ 色のルール
A15: 水色セル | C15: ユーザーが入力するセル
A16: グレーセル | C16: 数式で自動計算されるセル（編集不要）
A17: 赤色行 | C17: 支払予定日が過ぎている＋未払い → 至急対応
A18: 黄色行 | C18: 支払予定日まで7日以内＋未払い → 準備
A19: グレー文字 | C19: 支払済の行

Sheet 支払管理表
A1: 支払管理表 | L1: 作成日 | N1: =TODAY() -> 46164
A2: 今月の支払予定額 | D2: 今月の未払額 | G2: 今月の支払済額 | J2: 件数（未/部/済）
A3: =SUMIFS(支払管理表!$I$5:$I$1004,支払管理表!$B$5:$B$1004,">="&DATE(YEAR(TODAY()),MONTH(TODAY()),1),支払管理表!$B$5:$B$1004,"<"&DATE(YEAR(TODAY()),MONTH(TODAY())+1,1)) -> 0 | D3: =IFERROR(A3-G3,0) -> 0 | G3: =SUMIFS(支払管理表!$K$5:$K$1004,支払管理表!$B$5:$B$1004,">="&DATE(YEAR(TODAY()),MONTH(TODAY()),1),支払管理表!$B$5:$B$1004,"<"&DATE(YEAR(TODAY()),MONTH(TODAY())+1,1)) -> 0 | J3: =IFERROR(COUNTIF(支払管理表!$M$5:$M$1004,"未払い")&"件 / "&COUNTIF(支払管理表!$M$5:$M$1004,"一部支払")&"件 / "&COUNTIF(支払管理表!$M$5:$M$1004,"支払済")&"件","-") -> 0件 / 0件 / 0件
A4: No. | B4: 支払予定日 | C4: 曜日 | D4: 支払先 | E4: 内容／摘要 | F4: 費目 | G4: 請求書番号 | H4: 支払方法 | I4: 支払予定額 | J4: 支払日 | K4: 支払額 | L4: 未払額 | M4: 支払状況 | N4: 備考
A5: =IFERROR(IF(B5="","",ROW()-4),"") | L5: =IFERROR(IF(B5="","",IFERROR(I5,0)-IFERROR(K5,0)),"") | M5: =IFERROR(IF(B5="","",IF(OR(K5="",K5=0),"未払い",IF(K5>=I5,"支払済","一部支払"))),"")
A6: =IFERROR(IF(B6="","",ROW()-4),"") | L6: =IFERROR(IF(B6="","",IFERROR(I6,0)-IFERROR(K6,0)),"") | M6: =IFERROR(IF(B6="","",IF(OR(K6="",K6=0),"未払い",IF(K6>=I6,"支払済","一部支払"))),"")
A7: =IFERROR(IF(B7="","",ROW()-4),"") | C7: =IFERROR(IF(B7="","",TEXT(B7,"aaa")),"") | L7: =IFERROR(IF(B7="","",IFERROR(I7,0)-IFERROR(K7,0)),"") | M7: =IFERROR(IF(B7="","",IF(OR(K7="",K7=0),"未払い",IF(K7>=I7,"支払済","一部支払"))),"")
A8: =IFERROR(IF(B8="","",ROW()-4),"") | C8: =IFERROR(IF(B8="","",TEXT(B8,"aaa")),"") | L8: =IFERROR(IF(B8="","",IFERROR(I8,0)-IFERROR(K8,0)),"") | M8: =IFERROR(IF(B8="","",IF(OR(K8="",K8=0),"未払い",IF(K8>=I8,"支払済","一部支払"))),"")
A9: =IFERROR(IF(B9="","",ROW()-4),"") | C9: =IFERROR(IF(B9="","",TEXT(B9,"aaa")),"") | L9: =IFERROR(IF(B9="","",IFERROR(I9,0)-IFERROR(K9,0)),"") | M9: =IFERROR(IF(B9="","",IF(OR(K9="",K9=0),"未払い",IF(K9>=I9,"支払済","一部支払"))),"")
A10: =IFERROR(IF(B10="","",ROW()-4),"") | C10: =IFERROR(IF(B10="","",TEXT(B10,"aaa")),"") | L10: =IFERROR(IF(B10="","",IFERROR(I10,0)-IFERROR(K10,0)),"") | M10: =IFERROR(IF(B10="","",IF(OR(K10="",K10=0),"未払い",IF(K10>=I10,"支払済","一部支払"))),"")
A11: =IFERROR(IF(B11="","",ROW()-4),"") | C11: =IFERROR(IF(B11="","",TEXT(B11,"aaa")),"") | L11: =IFERROR(IF(B11="","",IFERROR(I11,0)-IFERROR(K11,0)),"") | M11: =IFERROR(IF(B11="","",IF(OR(K11="",K11=0),"未払い",IF(K11>=I11,"支払済","一部支払"))),"")
A12: =IFERROR(IF(B12="","",ROW()-4),"") | C12: =IFERROR(IF(B12="","",TEXT(B12,"aaa")),"") | L12: =IFERROR(IF(B12="","",IFERROR(I12,0)-IFERROR(K12,0)),"") | M12: =IFERROR(IF(B12="","",IF(OR(K12="",K12=0),"未払い",IF(K12>=I12,"支払済","一部支払"))),"")
A13: =IFERROR(IF(B13="","",ROW()-4),"") | C13: =IFERROR(IF(B13="","",TEXT(B13,"aaa")),"") | L13: =IFERROR(IF(B13="","",IFERROR(I13,0)-IFERROR(K13,0)),"") | M13: =IFERROR(IF(B13="","",IF(OR(K13="",K13=0),"未払い",IF(K13>=I13,"支払済","一部支払"))),"")
A14: =IFERROR(IF(B14="","",ROW()-4),"") | C14: =IFERROR(IF(B14="","",TEXT(B14,"aaa")),"") | L14: =IFERROR(IF(B14="","",IFERROR(I14,0)-IFERROR(K14,0)),"") | M14: =IFERROR(IF(B14="","",IF(OR(K14="",K14=0),"未払い",IF(K14>=I14,"支払済","一部支払"))),"")
A15: =IFERROR(IF(B15="","",ROW()-4),"") | C15: =IFERROR(IF(B15="","",TEXT(B15,"aaa")),"") | L15: =IFERROR(IF(B15="","",IFERROR(I15,0)-IFERROR(K15,0)),"") | M15: =IFERROR(IF(B15="","",IF(OR(K15="",K15=0),"未払い",IF(K15>=I15,"支払済","一部支払"))),"")
A16: =IFERROR(IF(B16="","",ROW()-4),"") | C16: =IFERROR(IF(B16="","",TEXT(B16,"aaa")),"") | L16: =IFERROR(IF(B16="","",IFERROR(I16,0)-IFERROR(K16,0)),"") | M16: =IFERROR(IF(B16="","",IF(OR(K16="",K16=0),"未払い",IF(K16>=I16,"支払済","一部支払"))),"")
A17: =IFERROR(IF(B17="","",ROW()-4),"") | C17: =IFERROR(IF(B17="","",TEXT(B17,"aaa")),"") | L17: =IFERROR(IF(B17="","",IFERROR(I17,0)-IFERROR(K17,0)),"") | M17: =IFERROR(IF(B17="","",IF(OR(K17="",K17=0),"未払い",IF(K17>=I17,"支払済","一部支払"))),"")
A18: =IFERROR(IF(B18="","",ROW()-4),"") | C18: =IFERROR(IF(B18="","",TEXT(B18,"aaa")),"") | L18: =IFERROR(IF(B18="","",IFERROR(I18,0)-IFERROR(K18,0)),"") | M18: =IFERROR(IF(B18="","",IF(OR(K18="",K18=0),"未払い",IF(K18>=I18,"支払済","一部支払"))),"")
... A104: =IFERROR(IF(B104="","",ROW()-4),"") | C104: =IFERROR(IF(B104="","",TEXT(B104,"aaa")),"") | L104: =IFERROR(IF(B104="","",IFERROR(I104,0)-IFERROR(K104,0)),"") | M104: =IFERROR(IF(B104="","",IF(OR(K104="",K104=0),"未払い",IF(K104>=I104,"支払済","一部支払"))),"")

Sheet 月別集計
A1: 月別集計
A2: 支払管理表のデータをもとに、1〜12月（本日年）の支払状況を自動集計します。当月の行は緑色でハイライトされます。
A3: 対象月 | B3: 支払予定額合計 | C3: 支払済額合計 | D3: 未払額合計 | E3: 未払い件数 | F3: 一部支払件数 | G3: 支払済件数 | H3: 支払済率
A4: =TEXT(DATE(YEAR(TODAY()),1,1),"yyyy年mm月") -> 2026年01月 | B4: =SUMIFS(支払管理表!$I$5:$I$1004,支払管理表!$B$5:$B$1004,">="&DATE(YEAR(TODAY()),1,1),支払管理表!$B$5:$B$1004,"<"&DATE(YEAR(TODAY()),2,1)) -> 0 | C4: =SUMIFS(支払管理表!$K$5:$K$1004,支払管理表!$B$5:$B$1004,">="&DATE(YEAR(TODAY()),1,1),支払管理表!$B$5:$B$1004,"<"&DATE(YEAR(TODAY()),2,1)) -> 0 | D4: =B4-C4 -> 0 | E4: =COUNTIFS(支払管理表!$B$5:$B$1004,">="&DATE(YEAR(TODAY()),1,1),支払管理表!$B$5:$B$1004,"<"&DATE(YEAR(TODAY()),2,1),支払管理表!$M$5:$M$1004,"未払い") -> 0 | F4: =COUNTIFS(支払管理表!$B$5:$B$1004,">="&DATE(YEAR(TODAY()),1,1),支払管理表!$B$5:$B$1004,"<"&DATE(YEAR(TODAY()),2,1),支払管理表!$M$5:$M$1004,"一部支払") -> 0 | G4: =COUNTIFS(支払管理表!$B$5:$B$1004,">="&DATE(YEAR(TODAY()),1,1),支払管理表!$B$5:$B$1004,"<"&DATE(YEAR(TODAY()),2,1),支払管理表!$M$5:$M$1004,"支払済") -> 0 | H4: =IFERROR(C4/B4,"")
A5: =TEXT(DATE(YEAR(TODAY()),2,1),"yyyy年mm月") -> 2026年02月 | B5: =SUMIFS(支払管理表!$I$5:$I$1004,支払管理表!$B$5:$B$1004,">="&DATE(YEAR(TODAY()),2,1),支払管理表!$B$5:$B$1004,"<"&DATE(YEAR(TODAY()),3,1)) -> 0 | C5: =SUMIFS(支払管理表!$K$5:$K$1004,支払管理表!$B$5:$B$1004,">="&DATE(YEAR(TODAY()),2,1),支払管理表!$B$5:$B$1004,"<"&DATE(YEAR(TODAY()),3,1)) -> 0 | D5: =B5-C5 -> 0 | E5: =COUNTIFS(支払管理表!$B$5:$B$1004,">="&DATE(YEAR(TODAY()),2,1),支払管理表!$B$5:$B$1004,"<"&DATE(YEAR(TODAY()),3,1),支払管理表!$M$5:$M$1004,"未払い") -> 0 | F5: =COUNTIFS(支払管理表!$B$5:$B$1004,">="&DATE(YEAR(TODAY()),2,1),支払管理表!$B$5:$B$1004,"<"&DATE(YEAR(TODAY()),3,1),支払管理表!$M$5:$M$1004,"一部支払") -> 0 | G5: =COUNTIFS(支払管理表!$B$5:$B$1004,">="&DATE(YEAR(TODAY()),2,1),支払管理表!$B$5:$B$1004,"<"&DATE(YEAR(TODAY()),3,1),支払管理表!$M$5:$M$1004,"支払済") -> 0 | H5: =IFERROR(C5/B5,"")
A6: =TEXT(DATE(YEAR(TODAY()),3,1),"yyyy年mm月") -> 2026年03月 | B6: =SUMIFS(支払管理表!$I$5:$I$1004,支払管理表!$B$5:$B$1004,">="&DATE(YEAR(TODAY()),3,1),支払管理表!$B$5:$B$1004,"<"&DATE(YEAR(TODAY()),4,1)) -> 0 | C6: =SUMIFS(支払管理表!$K$5:$K$1004,支払管理表!$B$5:$B$1004,">="&DATE(YEAR(TODAY()),3,1),支払管理表!$B$5:$B$1004,"<"&DATE(YEAR(TODAY()),4,1)) -> 0 | D6: =B6-C6 -> 0 | E6: =COUNTIFS(支払管理表!$B$5:$B$1004,">="&DATE(YEAR(TODAY()),3,1),支払管理表!$B$5:$B$1004,"<"&DATE(YEAR(TODAY()),4,1),支払管理表!$M$5:$M$1004,"未払い") -> 0 | F6: =COUNTIFS(支払管理表!$B$5:$B$1004,">="&DATE(YEAR(TODAY()),3,1),支払管理表!$B$5:$B$1004,"<"&DATE(YEAR(TODAY()),4,1),支払管理表!$M$5:$M$1004,"一部支払") -> 0 | G6: =COUNTIFS(支払管理表!$B$5:$B$1004,">="&DATE(YEAR(TODAY()),3,1),支払管理表!$B$5:$B$1004,"<"&DATE(YEAR(TODAY()),4,1),支払管理表!$M$5:$M$1004,"支払済") -> 0 | H6: =IFERROR(C6/B6,"")
A7: =TEXT(DATE(YEAR(TODAY()),4,1),"yyyy年mm月") -> 2026年04月 | B7: =SUMIFS(支払管理表!$I$5:$I$1004,支払管理表!$B$5:$B$1004,">="&DATE(YEAR(TODAY()),4,1),支払管理表!$B$5:$B$1004,"<"&DATE(YEAR(TODAY()),5,1)) -> 0 | C7: =SUMIFS(支払管理表!$K$5:$K$1004,支払管理表!$B$5:$B$1004,">="&DATE(YEAR(TODAY()),4,1),支払管理表!$B$5:$B$1004,"<"&DATE(YEAR(TODAY()),5,1)) -> 0 | D7: =B7-C7 -> 0 | E7: =COUNTIFS(支払管理表!$B$5:$B$1004,">="&DATE(YEAR(TODAY()),4,1),支払管理表!$B$5:$B$1004,"<"&DATE(YEAR(TODAY()),5,1),支払管理表!$M$5:$M$1004,"未払い") -> 0 | F7: =COUNTIFS(支払管理表!$B$5:$B$1004,">="&DATE(YEAR(TODAY()),4,1),支払管理表!$B$5:$B$1004,"<"&DATE(YEAR(TODAY()),5,1),支払管理表!$M$5:$M$1004,"一部支払") -> 0 | G7: =COUNTIFS(支払管理表!$B$5:$B$1004,">="&DATE(YEAR(TODAY()),4,1),支払管理表!$B$5:$B$1004,"<"&DATE(YEAR(TODAY()),5,1),支払管理表!$M$5:$M$1004,"支払済") -> 0 | H7: =IFERROR(C7/B7,"")
A8: =TEXT(DATE(YEAR(TODAY()),5,1),"yyyy年mm月") -> 2026年05月 | B8: =SUMIFS(支払管理表!$I$5:$I$1004,支払管理表!$B$5:$B$1004,">="&DATE(YEAR(TODAY()),5,1),支払管理表!$B$5:$B$1004,"<"&DATE(YEAR(TODAY()),6,1)) -> 0 | C8: =SUMIFS(支払管理表!$K$5:$K$1004,支払管理表!$B$5:$B$1004,">="&DATE(YEAR(TODAY()),5,1),支払管理表!$B$5:$B$1004,"<"&DATE(YEAR(TODAY()),6,1)) -> 0 | D8: =B8-C8 -> 0 | E8: =COUNTIFS(支払管理表!$B$5:$B$1004,">="&DATE(YEAR(TODAY()),5,1),支払管理表!$B$5:$B$1004,"<"&DATE(YEAR(TODAY()),6,1),支払管理表!$M$5:$M$1004,"未払い") -> 0 | F8: =COUNTIFS(支払管理表!$B$5:$B$1004,">="&DATE(YEAR(TODAY()),5,1),支払管理表!$B$5:$B$1004,"<"&DATE(YEAR(TODAY()),6,1),支払管理表!$M$5:$M$1004,"一部支払") -> 0 | G8: =COUNTIFS(支払管理表!$B$5:$B$1004,">="&DATE(YEAR(TODAY()),5,1),支払管理表!$B$5:$B$1004,"<"&DATE(YEAR(TODAY()),6,1),支払管理表!$M$5:$M$1004,"支払済") -> 0 | H8: =IFERROR(C8/B8,"")
A9: =TEXT(DATE(YEAR(TODAY()),6,1),"yyyy年mm月") -> 2026年06月 | B9: =SUMIFS(支払管理表!$I$5:$I$1004,支払管理表!$B$5:$B$1004,">="&DATE(YEAR(TODAY()),6,1),支払管理表!$B$5:$B$1004,"<"&DATE(YEAR(TODAY()),7,1)) -> 0 | C9: =SUMIFS(支払管理表!$K$5:$K$1004,支払管理表!$B$5:$B$1004,">="&DATE(YEAR(TODAY()),6,1),支払管理表!$B$5:$B$1004,"<"&DATE(YEAR(TODAY()),7,1)) -> 0 | D9: =B9-C9 -> 0 | E9: =COUNTIFS(支払管理表!$B$5:$B$1004,">="&DATE(YEAR(TODAY()),6,1),支払管理表!$B$5:$B$1004,"<"&DATE(YEAR(TODAY()),7,1),支払管理表!$M$5:$M$1004,"未払い") -> 0 | F9: =COUNTIFS(支払管理表!$B$5:$B$1004,">="&DATE(YEAR(TODAY()),6,1),支払管理表!$B$5:$B$1004,"<"&DATE(YEAR(TODAY()),7,1),支払管理表!$M$5:$M$1004,"一部支払") -> 0 | G9: =COUNTIFS(支払管理表!$B$5:$B$1004,">="&DATE(YEAR(TODAY()),6,1),支払管理表!$B$5:$B$1004,"<"&DATE(YEAR(TODAY()),7,1),支払管理表!$M$5:$M$1004,"支払済") -> 0 | H9: =IFERROR(C9/B9,"")
A10: =TEXT(DATE(YEAR(TODAY()),7,1),"yyyy年mm月") -> 2026年07月 | B10: =SUMIFS(支払管理表!$I$5:$I$1004,支払管理表!$B$5:$B$1004,">="&DATE(YEAR(TODAY()),7,1),支払管理表!$B$5:$B$1004,"<"&DATE(YEAR(TODAY()),8,1)) -> 0 | C10: =SUMIFS(支払管理表!$K$5:$K$1004,支払管理表!$B$5:$B$1004,">="&DATE(YEAR(TODAY()),7,1),支払管理表!$B$5:$B$1004,"<"&DATE(YEAR(TODAY()),8,1)) -> 0 | D10: =B10-C10 -> 0 | E10: =COUNTIFS(支払管理表!$B$5:$B$1004,">="&DATE(YEAR(TODAY()),7,1),支払管理表!$B$5:$B$1004,"<"&DATE(YEAR(TODAY()),8,1),支払管理表!$M$5:$M$1004,"未払い") -> 0 | F10: =COUNTIFS(支払管理表!$B$5:$B$1004,">="&DATE(YEAR(TODAY()),7,1),支払管理表!$B$5:$B$1004,"<"&DATE(YEAR(TODAY()),8,1),支払管理表!$M$5:$M$1004,"一部支払") -> 0 | G10: =COUNTIFS(支払管理表!$B$5:$B$1004,">="&DATE(YEAR(TODAY()),7,1),支払管理表!$B$5:$B$1004,"<"&DATE(YEAR(TODAY()),8,1),支払管理表!$M$5:$M$1004,"支払済") -> 0 | H10: =IFERROR(C10/B10,"")
A11: =TEXT(DATE(YEAR(TODAY()),8,1),"yyyy年mm月") -> 2026年08月 | B11: =SUMIFS(支払管理表!$I$5:$I$1004,支払管理表!$B$5:$B$1004,">="&DATE(YEAR(TODAY()),8,1),支払管理表!$B$5:$B$1004,"<"&DATE(YEAR(TODAY()),9,1)) -> 0 | C11: =SUMIFS(支払管理表!$K$5:$K$1004,支払管理表!$B$5:$B$1004,">="&DATE(YEAR(TODAY()),8,1),支払管理表!$B$5:$B$1004,"<"&DATE(YEAR(TODAY()),9,1)) -> 0 | D11: =B11-C11 -> 0 | E11: =COUNTIFS(支払管理表!$B$5:$B$1004,">="&DATE(YEAR(TODAY()),8,1),支払管理表!$B$5:$B$1004,"<"&DATE(YEAR(TODAY()),9,1),支払管理表!$M$5:$M$1004,"未払い") -> 0 | F11: =COUNTIFS(支払管理表!$B$5:$B$1004,">="&DATE(YEAR(TODAY()),8,1),支払管理表!$B$5:$B$1004,"<"&DATE(YEAR(TODAY()),9,1),支払管理表!$M$5:$M$1004,"一部支払") -> 0 | G11: =COUNTIFS(支払管理表!$B$5:$B$1004,">="&DATE(YEAR(TODAY()),8,1),支払管理表!$B$5:$B$1004,"<"&DATE(YEAR(TODAY()),9,1),支払管理表!$M$5:$M$1004,"支払済") -> 0 | H11: =IFERROR(C11/B11,"")
A12: =TEXT(DATE(YEAR(TODAY()),9,1),"yyyy年mm月") -> 2026年09月 | B12: =SUMIFS(支払管理表!$I$5:$I$1004,支払管理表!$B$5:$B$1004,">="&DATE(YEAR(TODAY()),9,1),支払管理表!$B$5:$B$1004,"<"&DATE(YEAR(TODAY()),10,1)) -> 0 | C12: =SUMIFS(支払管理表!$K$5:$K$1004,支払管理表!$B$5:$B$1004,">="&DATE(YEAR(TODAY()),9,1),支払管理表!$B$5:$B$1004,"<"&DATE(YEAR(TODAY()),10,1)) -> 0 | D12: =B12-C12 -> 0 | E12: =COUNTIFS(支払管理表!$B$5:$B$1004,">="&DATE(YEAR(TODAY()),9,1),支払管理表!$B$5:$B$1004,"<"&DATE(YEAR(TODAY()),10,1),支払管理表!$M$5:$M$1004,"未払い") -> 0 | F12: =COUNTIFS(支払管理表!$B$5:$B$1004,">="&DATE(YEAR(TODAY()),9,1),支払管理表!$B$5:$B$1004,"<"&DATE(YEAR(TODAY()),10,1),支払管理表!$M$5:$M$1004,"一部支払") -> 0 | G12: =COUNTIFS(支払管理表!$B$5:$B$1004,">="&DATE(YEAR(TODAY()),9,1),支払管理表!$B$5:$B$1004,"<"&DATE(YEAR(TODAY()),10,1),支払管理表!$M$5:$M$1004,"支払済") -> 0 | H12: =IFERROR(C12/B12,"")
A13: =TEXT(DATE(YEAR(TODAY()),10,1),"yyyy年mm月") -> 2026年10月 | B13: =SUMIFS(支払管理表!$I$5:$I$1004,支払管理表!$B$5:$B$1004,">="&DATE(YEAR(TODAY()),10,1),支払管理表!$B$5:$B$1004,"<"&DATE(YEAR(TODAY()),11,1)) -> 0 | C13: =SUMIFS(支払管理表!$K$5:$K$1004,支払管理表!$B$5:$B$1004,">="&DATE(YEAR(TODAY()),10,1),支払管理表!$B$5:$B$1004,"<"&DATE(YEAR(TODAY()),11,1)) -> 0 | D13: =B13-C13 -> 0 | E13: =COUNTIFS(支払管理表!$B$5:$B$1004,">="&DATE(YEAR(TODAY()),10,1),支払管理表!$B$5:$B$1004,"<"&DATE(YEAR(TODAY()),11,1),支払管理表!$M$5:$M$1004,"未払い") -> 0 | F13: =COUNTIFS(支払管理表!$B$5:$B$1004,">="&DATE(YEAR(TODAY()),10,1),支払管理表!$B$5:$B$1004,"<"&DATE(YEAR(TODAY()),11,1),支払管理表!$M$5:$M$1004,"一部支払") -> 0 | G13: =COUNTIFS(支払管理表!$B$5:$B$1004,">="&DATE(YEAR(TODAY()),10,1),支払管理表!$B$5:$B$1004,"<"&DATE(YEAR(TODAY()),11,1),支払管理表!$M$5:$M$1004,"支払済") -> 0 | H13: =IFERROR(C13/B13,"")
A14: =TEXT(DATE(YEAR(TODAY()),11,1),"yyyy年mm月") -> 2026年11月 | B14: =SUMIFS(支払管理表!$I$5:$I$1004,支払管理表!$B$5:$B$1004,">="&DATE(YEAR(TODAY()),11,1),支払管理表!$B$5:$B$1004,"<"&DATE(YEAR(TODAY()),12,1)) -> 0 | C14: =SUMIFS(支払管理表!$K$5:$K$1004,支払管理表!$B$5:$B$1004,">="&DATE(YEAR(TODAY()),11,1),支払管理表!$B$5:$B$1004,"<"&DATE(YEAR(TODAY()),12,1)) -> 0 | D14: =B14-C14 -> 0 | E14: =COUNTIFS(支払管理表!$B$5:$B$1004,">="&DATE(YEAR(TODAY()),11,1),支払管理表!$B$5:$B$1004,"<"&DATE(YEAR(TODAY()),12,1),支払管理表!$M$5:$M$1004,"未払い") -> 0 | F14: =COUNTIFS(支払管理表!$B$5:$B$1004,">="&DATE(YEAR(TODAY()),11,1),支払管理表!$B$5:$B$1004,"<"&DATE(YEAR(TODAY()),12,1),支払管理表!$M$5:$M$1004,"一部支払") -> 0 | G14: =COUNTIFS(支払管理表!$B$5:$B$1004,">="&DATE(YEAR(TODAY()),11,1),支払管理表!$B$5:$B$1004,"<"&DATE(YEAR(TODAY()),12,1),支払管理表!$M$5:$M$1004,"支払済") -> 0 | H14: =IFERROR(C14/B14,"")
A15: =TEXT(DATE(YEAR(TODAY()),12,1),"yyyy年mm月") -> 2026年12月 | B15: =SUMIFS(支払管理表!$I$5:$I$1004,支払管理表!$B$5:$B$1004,">="&DATE(YEAR(TODAY()),12,1),支払管理表!$B$5:$B$1004,"<"&DATE(YEAR(TODAY())+1,1,1)) -> 0 | C15: =SUMIFS(支払管理表!$K$5:$K$1004,支払管理表!$B$5:$B$1004,">="&DATE(YEAR(TODAY()),12,1),支払管理表!$B$5:$B$1004,"<"&DATE(YEAR(TODAY())+1,1,1)) -> 0 | D15: =B15-C15 -> 0 | E15: =COUNTIFS(支払管理表!$B$5:$B$1004,">="&DATE(YEAR(TODAY()),12,1),支払管理表!$B$5:$B$1004,"<"&DATE(YEAR(TODAY())+1,1,1),支払管理表!$M$5:$M$1004,"未払い") -> 0 | F15: =COUNTIFS(支払管理表!$B$5:$B$1004,">="&DATE(YEAR(TODAY()),12,1),支払管理表!$B$5:$B$1004,"<"&DATE(YEAR(TODAY())+1,1,1),支払管理表!$M$5:$M$1004,"一部支払") -> 0 | G15: =COUNTIFS(支払管理表!$B$5:$B$1004,">="&DATE(YEAR(TODAY()),12,1),支払管理表!$B$5:$B$1004,"<"&DATE(YEAR(TODAY())+1,1,1),支払管理表!$M$5:$M$1004,"支払済") -> 0 | H15: =IFERROR(C15/B15,"")
A16: 合計 | B16: =SUM(B4:B15) -> 0 | C16: =SUM(C4:C15) -> 0 | D16: =SUM(D4:D15) -> 0 | E16: =SUM(E4:E15) -> 0 | F16: =SUM(F4:F15) -> 0 | G16: =SUM(G4:G15) -> 0 | H16: =IFERROR(C16/B16,"")

Sheet マスタ設定
A1: マスタ設定
A2: 📝 このシートで「支払方法」「費目」「支払状況」のリストを管理します。支払管理表のプルダウンはここから自動参照されます。項目を追加・編集すると、支払管理表のプルダウンにも反映されます。
A3: 支払方法 | C3: 費目 | E3: 支払状況
A4: 銀行振込 | C4: 仕入 | E4: 未払い
A5: 口座振替 | C5: 外注費 | E5: 一部支払
A6: クレジットカード | C6: 家賃 | E6: 支払済
A7: 現金 | C7: 水道光熱費
A8: その他 | C8: 通信費
C9: 広告宣伝費
C10: 消耗品費
C11: 旅費交通費
C12: 支払手数料
C13: その他
