Workbook

Sheet 勤務表
A1: 勤 務 表
A2: 対象年月 | B2: 2026 | C2: 年 | D2: 5 | E2: 月 | F2: 従業員名 | G2: 山田 太郎 | J2: 所属 | K2: 営業部
A3: 所定労働時間 | B3: 0.33333333 | C3: （1日あたり／残業計算の基準） | F3: 作成日 | G3: =TODAY() -> 46163 | J3: 承認
A5: 月間集計
A6: 月間勤務日数 | B6: 月間実働時間 | C6: 月間残業時間 | D6: 有給取得日数 | E6: 欠勤日数 | F6: 遅刻・早退回数 | G6: 休日出勤日数 | H6: メモ／申し送り事項
A7: =COUNTIF(C10:C40,"通常勤務")+COUNTIF(C10:C40,"休日出勤")+COUNTIF(C10:C40,"遅刻")+COUNTIF(C10:C40,"早退")+COUNTIF(C10:C40,"半休") -> 0 | B7: =SUM(G10:G40) -> 0 | C7: =SUM(I10:I40) -> 0 | D7: =COUNTIF(C10:C40,"有給")+COUNTIF(C10:C40,"半休")*0.5 -> 0 | E7: =COUNTIF(C10:C40,"欠勤") -> 0 | F7: =COUNTIF(C10:C40,"遅刻")+COUNTIF(C10:C40,"早退") -> 0 | G7: =COUNTIF(C10:C40,"休日出勤") -> 0
A9: 日付 | B9: 曜日 | C9: 勤務区分 | D9: 出勤時刻 | E9: 退勤時刻 | F9: 休憩時間 | G9: 実働時間 | H9: 所定労働時間 | I9: 残業時間 | J9: 深夜労働時間 | K9: 有給休暇 | L9: 備考
A10: =IFERROR(IF(MONTH(DATE($B$2,$D$2,1))=$D$2,DATE($B$2,$D$2,1),""),"") -> 46143 | B10: =IF(A10="","",TEXT(A10,"aaa")) -> 金 | G10: =IF(OR(D10="",E10=""),"",MAX(0,IF(E10<D10,E10+1,E10)-D10-IF(F10="",0,F10))) | H10: =IF(A10="","",IF(OR(C10="休日",C10="有給",C10="欠勤",C10="休日出勤"),0,IF(C10="半休",$B$3/2,$B$3))) -> 0.33333333 | I10: =IF(OR(G10="",H10=""),"",MAX(0,G10-H10)) | J10: =IF(OR(D10="",E10=""),"",MAX(0,IF(E10<D10,E10+1,E10)-MAX(D10,設定!$E$6))) | K10: =IF(C10="有給",1,IF(C10="半休",0.5,""))
A11: =IFERROR(IF(MONTH(DATE($B$2,$D$2,2))=$D$2,DATE($B$2,$D$2,2),""),"") -> 46144 | B11: =IF(A11="","",TEXT(A11,"aaa")) -> 土 | G11: =IF(OR(D11="",E11=""),"",MAX(0,IF(E11<D11,E11+1,E11)-D11-IF(F11="",0,F11))) | H11: =IF(A11="","",IF(OR(C11="休日",C11="有給",C11="欠勤",C11="休日出勤"),0,IF(C11="半休",$B$3/2,$B$3))) -> 0.33333333 | I11: =IF(OR(G11="",H11=""),"",MAX(0,G11-H11)) | J11: =IF(OR(D11="",E11=""),"",MAX(0,IF(E11<D11,E11+1,E11)-MAX(D11,設定!$E$6))) | K11: =IF(C11="有給",1,IF(C11="半休",0.5,""))
A12: =IFERROR(IF(MONTH(DATE($B$2,$D$2,3))=$D$2,DATE($B$2,$D$2,3),""),"") -> 46145 | B12: =IF(A12="","",TEXT(A12,"aaa")) -> 日 | G12: =IF(OR(D12="",E12=""),"",MAX(0,IF(E12<D12,E12+1,E12)-D12-IF(F12="",0,F12))) | H12: =IF(A12="","",IF(OR(C12="休日",C12="有給",C12="欠勤",C12="休日出勤"),0,IF(C12="半休",$B$3/2,$B$3))) -> 0.33333333 | I12: =IF(OR(G12="",H12=""),"",MAX(0,G12-H12)) | J12: =IF(OR(D12="",E12=""),"",MAX(0,IF(E12<D12,E12+1,E12)-MAX(D12,設定!$E$6))) | K12: =IF(C12="有給",1,IF(C12="半休",0.5,""))
A13: =IFERROR(IF(MONTH(DATE($B$2,$D$2,4))=$D$2,DATE($B$2,$D$2,4),""),"") -> 46146 | B13: =IF(A13="","",TEXT(A13,"aaa")) -> 月 | G13: =IF(OR(D13="",E13=""),"",MAX(0,IF(E13<D13,E13+1,E13)-D13-IF(F13="",0,F13))) | H13: =IF(A13="","",IF(OR(C13="休日",C13="有給",C13="欠勤",C13="休日出勤"),0,IF(C13="半休",$B$3/2,$B$3))) -> 0.33333333 | I13: =IF(OR(G13="",H13=""),"",MAX(0,G13-H13)) | J13: =IF(OR(D13="",E13=""),"",MAX(0,IF(E13<D13,E13+1,E13)-MAX(D13,設定!$E$6))) | K13: =IF(C13="有給",1,IF(C13="半休",0.5,""))
A14: =IFERROR(IF(MONTH(DATE($B$2,$D$2,5))=$D$2,DATE($B$2,$D$2,5),""),"") -> 46147 | B14: =IF(A14="","",TEXT(A14,"aaa")) -> 火 | G14: =IF(OR(D14="",E14=""),"",MAX(0,IF(E14<D14,E14+1,E14)-D14-IF(F14="",0,F14))) | H14: =IF(A14="","",IF(OR(C14="休日",C14="有給",C14="欠勤",C14="休日出勤"),0,IF(C14="半休",$B$3/2,$B$3))) -> 0.33333333 | I14: =IF(OR(G14="",H14=""),"",MAX(0,G14-H14)) | J14: =IF(OR(D14="",E14=""),"",MAX(0,IF(E14<D14,E14+1,E14)-MAX(D14,設定!$E$6))) | K14: =IF(C14="有給",1,IF(C14="半休",0.5,""))
A15: =IFERROR(IF(MONTH(DATE($B$2,$D$2,6))=$D$2,DATE($B$2,$D$2,6),""),"") -> 46148 | B15: =IF(A15="","",TEXT(A15,"aaa")) -> 水 | G15: =IF(OR(D15="",E15=""),"",MAX(0,IF(E15<D15,E15+1,E15)-D15-IF(F15="",0,F15))) | H15: =IF(A15="","",IF(OR(C15="休日",C15="有給",C15="欠勤",C15="休日出勤"),0,IF(C15="半休",$B$3/2,$B$3))) -> 0.33333333 | I15: =IF(OR(G15="",H15=""),"",MAX(0,G15-H15)) | J15: =IF(OR(D15="",E15=""),"",MAX(0,IF(E15<D15,E15+1,E15)-MAX(D15,設定!$E$6))) | K15: =IF(C15="有給",1,IF(C15="半休",0.5,""))
A16: =IFERROR(IF(MONTH(DATE($B$2,$D$2,7))=$D$2,DATE($B$2,$D$2,7),""),"") -> 46149 | B16: =IF(A16="","",TEXT(A16,"aaa")) -> 木 | G16: =IF(OR(D16="",E16=""),"",MAX(0,IF(E16<D16,E16+1,E16)-D16-IF(F16="",0,F16))) | H16: =IF(A16="","",IF(OR(C16="休日",C16="有給",C16="欠勤",C16="休日出勤"),0,IF(C16="半休",$B$3/2,$B$3))) -> 0.33333333 | I16: =IF(OR(G16="",H16=""),"",MAX(0,G16-H16)) | J16: =IF(OR(D16="",E16=""),"",MAX(0,IF(E16<D16,E16+1,E16)-MAX(D16,設定!$E$6))) | K16: =IF(C16="有給",1,IF(C16="半休",0.5,""))
A17: =IFERROR(IF(MONTH(DATE($B$2,$D$2,8))=$D$2,DATE($B$2,$D$2,8),""),"") -> 46150 | B17: =IF(A17="","",TEXT(A17,"aaa")) -> 金 | G17: =IF(OR(D17="",E17=""),"",MAX(0,IF(E17<D17,E17+1,E17)-D17-IF(F17="",0,F17))) | H17: =IF(A17="","",IF(OR(C17="休日",C17="有給",C17="欠勤",C17="休日出勤"),0,IF(C17="半休",$B$3/2,$B$3))) -> 0.33333333 | I17: =IF(OR(G17="",H17=""),"",MAX(0,G17-H17)) | J17: =IF(OR(D17="",E17=""),"",MAX(0,IF(E17<D17,E17+1,E17)-MAX(D17,設定!$E$6))) | K17: =IF(C17="有給",1,IF(C17="半休",0.5,""))
A18: =IFERROR(IF(MONTH(DATE($B$2,$D$2,9))=$D$2,DATE($B$2,$D$2,9),""),"") -> 46151 | B18: =IF(A18="","",TEXT(A18,"aaa")) -> 土 | C18: 休日 | G18: =IF(OR(D18="",E18=""),"",MAX(0,IF(E18<D18,E18+1,E18)-D18-IF(F18="",0,F18))) | H18: =IF(A18="","",IF(OR(C18="休日",C18="有給",C18="欠勤",C18="休日出勤"),0,IF(C18="半休",$B$3/2,$B$3))) -> 0 | I18: =IF(OR(G18="",H18=""),"",MAX(0,G18-H18)) | J18: =IF(OR(D18="",E18=""),"",MAX(0,IF(E18<D18,E18+1,E18)-MAX(D18,設定!$E$6))) | K18: =IF(C18="有給",1,IF(C18="半休",0.5,""))
A19: =IFERROR(IF(MONTH(DATE($B$2,$D$2,10))=$D$2,DATE($B$2,$D$2,10),""),"") -> 46152 | B19: =IF(A19="","",TEXT(A19,"aaa")) -> 日 | C19: 休日 | G19: =IF(OR(D19="",E19=""),"",MAX(0,IF(E19<D19,E19+1,E19)-D19-IF(F19="",0,F19))) | H19: =IF(A19="","",IF(OR(C19="休日",C19="有給",C19="欠勤",C19="休日出勤"),0,IF(C19="半休",$B$3/2,$B$3))) -> 0 | I19: =IF(OR(G19="",H19=""),"",MAX(0,G19-H19)) | J19: =IF(OR(D19="",E19=""),"",MAX(0,IF(E19<D19,E19+1,E19)-MAX(D19,設定!$E$6))) | K19: =IF(C19="有給",1,IF(C19="半休",0.5,""))
A20: =IFERROR(IF(MONTH(DATE($B$2,$D$2,11))=$D$2,DATE($B$2,$D$2,11),""),"") -> 46153 | B20: =IF(A20="","",TEXT(A20,"aaa")) -> 月 | G20: =IF(OR(D20="",E20=""),"",MAX(0,IF(E20<D20,E20+1,E20)-D20-IF(F20="",0,F20))) | H20: =IF(A20="","",IF(OR(C20="休日",C20="有給",C20="欠勤",C20="休日出勤"),0,IF(C20="半休",$B$3/2,$B$3))) -> 0.33333333 | I20: =IF(OR(G20="",H20=""),"",MAX(0,G20-H20)) | J20: =IF(OR(D20="",E20=""),"",MAX(0,IF(E20<D20,E20+1,E20)-MAX(D20,設定!$E$6))) | K20: =IF(C20="有給",1,IF(C20="半休",0.5,""))
A21: =IFERROR(IF(MONTH(DATE($B$2,$D$2,12))=$D$2,DATE($B$2,$D$2,12),""),"") -> 46154 | B21: =IF(A21="","",TEXT(A21,"aaa")) -> 火 | G21: =IF(OR(D21="",E21=""),"",MAX(0,IF(E21<D21,E21+1,E21)-D21-IF(F21="",0,F21))) | H21: =IF(A21="","",IF(OR(C21="休日",C21="有給",C21="欠勤",C21="休日出勤"),0,IF(C21="半休",$B$3/2,$B$3))) -> 0.33333333 | I21: =IF(OR(G21="",H21=""),"",MAX(0,G21-H21)) | J21: =IF(OR(D21="",E21=""),"",MAX(0,IF(E21<D21,E21+1,E21)-MAX(D21,設定!$E$6))) | K21: =IF(C21="有給",1,IF(C21="半休",0.5,""))
A22: =IFERROR(IF(MONTH(DATE($B$2,$D$2,13))=$D$2,DATE($B$2,$D$2,13),""),"") -> 46155 | B22: =IF(A22="","",TEXT(A22,"aaa")) -> 水 | G22: =IF(OR(D22="",E22=""),"",MAX(0,IF(E22<D22,E22+1,E22)-D22-IF(F22="",0,F22))) | H22: =IF(A22="","",IF(OR(C22="休日",C22="有給",C22="欠勤",C22="休日出勤"),0,IF(C22="半休",$B$3/2,$B$3))) -> 0.33333333 | I22: =IF(OR(G22="",H22=""),"",MAX(0,G22-H22)) | J22: =IF(OR(D22="",E22=""),"",MAX(0,IF(E22<D22,E22+1,E22)-MAX(D22,設定!$E$6))) | K22: =IF(C22="有給",1,IF(C22="半休",0.5,""))
A23: =IFERROR(IF(MONTH(DATE($B$2,$D$2,14))=$D$2,DATE($B$2,$D$2,14),""),"") -> 46156 | B23: =IF(A23="","",TEXT(A23,"aaa")) -> 木 | G23: =IF(OR(D23="",E23=""),"",MAX(0,IF(E23<D23,E23+1,E23)-D23-IF(F23="",0,F23))) | H23: =IF(A23="","",IF(OR(C23="休日",C23="有給",C23="欠勤",C23="休日出勤"),0,IF(C23="半休",$B$3/2,$B$3))) -> 0.33333333 | I23: =IF(OR(G23="",H23=""),"",MAX(0,G23-H23)) | J23: =IF(OR(D23="",E23=""),"",MAX(0,IF(E23<D23,E23+1,E23)-MAX(D23,設定!$E$6))) | K23: =IF(C23="有給",1,IF(C23="半休",0.5,""))
A24: =IFERROR(IF(MONTH(DATE($B$2,$D$2,15))=$D$2,DATE($B$2,$D$2,15),""),"") -> 46157 | B24: =IF(A24="","",TEXT(A24,"aaa")) -> 金 | G24: =IF(OR(D24="",E24=""),"",MAX(0,IF(E24<D24,E24+1,E24)-D24-IF(F24="",0,F24))) | H24: =IF(A24="","",IF(OR(C24="休日",C24="有給",C24="欠勤",C24="休日出勤"),0,IF(C24="半休",$B$3/2,$B$3))) -> 0.33333333 | I24: =IF(OR(G24="",H24=""),"",MAX(0,G24-H24)) | J24: =IF(OR(D24="",E24=""),"",MAX(0,IF(E24<D24,E24+1,E24)-MAX(D24,設定!$E$6))) | K24: =IF(C24="有給",1,IF(C24="半休",0.5,""))
A25: =IFERROR(IF(MONTH(DATE($B$2,$D$2,16))=$D$2,DATE($B$2,$D$2,16),""),"") -> 46158 | B25: =IF(A25="","",TEXT(A25,"aaa")) -> 土 | G25: =IF(OR(D25="",E25=""),"",MAX(0,IF(E25<D25,E25+1,E25)-D25-IF(F25="",0,F25))) | H25: =IF(A25="","",IF(OR(C25="休日",C25="有給",C25="欠勤",C25="休日出勤"),0,IF(C25="半休",$B$3/2,$B$3))) -> 0.33333333 | I25: =IF(OR(G25="",H25=""),"",MAX(0,G25-H25)) | J25: =IF(OR(D25="",E25=""),"",MAX(0,IF(E25<D25,E25+1,E25)-MAX(D25,設定!$E$6))) | K25: =IF(C25="有給",1,IF(C25="半休",0.5,""))
A26: =IFERROR(IF(MONTH(DATE($B$2,$D$2,17))=$D$2,DATE($B$2,$D$2,17),""),"") -> 46159 | B26: =IF(A26="","",TEXT(A26,"aaa")) -> 日 | G26: =IF(OR(D26="",E26=""),"",MAX(0,IF(E26<D26,E26+1,E26)-D26-IF(F26="",0,F26))) | H26: =IF(A26="","",IF(OR(C26="休日",C26="有給",C26="欠勤",C26="休日出勤"),0,IF(C26="半休",$B$3/2,$B$3))) -> 0.33333333 | I26: =IF(OR(G26="",H26=""),"",MAX(0,G26-H26)) | J26: =IF(OR(D26="",E26=""),"",MAX(0,IF(E26<D26,E26+1,E26)-MAX(D26,設定!$E$6))) | K26: =IF(C26="有給",1,IF(C26="半休",0.5,""))
A27: =IFERROR(IF(MONTH(DATE($B$2,$D$2,18))=$D$2,DATE($B$2,$D$2,18),""),"") -> 46160 | B27: =IF(A27="","",TEXT(A27,"aaa")) -> 月 | G27: =IF(OR(D27="",E27=""),"",MAX(0,IF(E27<D27,E27+1,E27)-D27-IF(F27="",0,F27))) | H27: =IF(A27="","",IF(OR(C27="休日",C27="有給",C27="欠勤",C27="休日出勤"),0,IF(C27="半休",$B$3/2,$B$3))) -> 0.33333333 | I27: =IF(OR(G27="",H27=""),"",MAX(0,G27-H27)) | J27: =IF(OR(D27="",E27=""),"",MAX(0,IF(E27<D27,E27+1,E27)-MAX(D27,設定!$E$6))) | K27: =IF(C27="有給",1,IF(C27="半休",0.5,""))
A28: =IFERROR(IF(MONTH(DATE($B$2,$D$2,19))=$D$2,DATE($B$2,$D$2,19),""),"") -> 46161 | B28: =IF(A28="","",TEXT(A28,"aaa")) -> 火 | G28: =IF(OR(D28="",E28=""),"",MAX(0,IF(E28<D28,E28+1,E28)-D28-IF(F28="",0,F28))) | H28: =IF(A28="","",IF(OR(C28="休日",C28="有給",C28="欠勤",C28="休日出勤"),0,IF(C28="半休",$B$3/2,$B$3))) -> 0.33333333 | I28: =IF(OR(G28="",H28=""),"",MAX(0,G28-H28)) | J28: =IF(OR(D28="",E28=""),"",MAX(0,IF(E28<D28,E28+1,E28)-MAX(D28,設定!$E$6))) | K28: =IF(C28="有給",1,IF(C28="半休",0.5,""))
A29: =IFERROR(IF(MONTH(DATE($B$2,$D$2,20))=$D$2,DATE($B$2,$D$2,20),""),"") -> 46162 | B29: =IF(A29="","",TEXT(A29,"aaa")) -> 水 | G29: =IF(OR(D29="",E29=""),"",MAX(0,IF(E29<D29,E29+1,E29)-D29-IF(F29="",0,F29))) | H29: =IF(A29="","",IF(OR(C29="休日",C29="有給",C29="欠勤",C29="休日出勤"),0,IF(C29="半休",$B$3/2,$B$3))) -> 0.33333333 | I29: =IF(OR(G29="",H29=""),"",MAX(0,G29-H29)) | J29: =IF(OR(D29="",E29=""),"",MAX(0,IF(E29<D29,E29+1,E29)-MAX(D29,設定!$E$6))) | K29: =IF(C29="有給",1,IF(C29="半休",0.5,""))
A30: =IFERROR(IF(MONTH(DATE($B$2,$D$2,21))=$D$2,DATE($B$2,$D$2,21),""),"") -> 46163 | B30: =IF(A30="","",TEXT(A30,"aaa")) -> 木 | G30: =IF(OR(D30="",E30=""),"",MAX(0,IF(E30<D30,E30+1,E30)-D30-IF(F30="",0,F30))) | H30: =IF(A30="","",IF(OR(C30="休日",C30="有給",C30="欠勤",C30="休日出勤"),0,IF(C30="半休",$B$3/2,$B$3))) -> 0.33333333 | I30: =IF(OR(G30="",H30=""),"",MAX(0,G30-H30)) | J30: =IF(OR(D30="",E30=""),"",MAX(0,IF(E30<D30,E30+1,E30)-MAX(D30,設定!$E$6))) | K30: =IF(C30="有給",1,IF(C30="半休",0.5,""))
A31: =IFERROR(IF(MONTH(DATE($B$2,$D$2,22))=$D$2,DATE($B$2,$D$2,22),""),"") -> 46164 | B31: =IF(A31="","",TEXT(A31,"aaa")) -> 金 | G31: =IF(OR(D31="",E31=""),"",MAX(0,IF(E31<D31,E31+1,E31)-D31-IF(F31="",0,F31))) | H31: =IF(A31="","",IF(OR(C31="休日",C31="有給",C31="欠勤",C31="休日出勤"),0,IF(C31="半休",$B$3/2,$B$3))) -> 0.33333333 | I31: =IF(OR(G31="",H31=""),"",MAX(0,G31-H31)) | J31: =IF(OR(D31="",E31=""),"",MAX(0,IF(E31<D31,E31+1,E31)-MAX(D31,設定!$E$6))) | K31: =IF(C31="有給",1,IF(C31="半休",0.5,""))
A32: =IFERROR(IF(MONTH(DATE($B$2,$D$2,23))=$D$2,DATE($B$2,$D$2,23),""),"") -> 46165 | B32: =IF(A32="","",TEXT(A32,"aaa")) -> 土 | G32: =IF(OR(D32="",E32=""),"",MAX(0,IF(E32<D32,E32+1,E32)-D32-IF(F32="",0,F32))) | H32: =IF(A32="","",IF(OR(C32="休日",C32="有給",C32="欠勤",C32="休日出勤"),0,IF(C32="半休",$B$3/2,$B$3))) -> 0.33333333 | I32: =IF(OR(G32="",H32=""),"",MAX(0,G32-H32)) | J32: =IF(OR(D32="",E32=""),"",MAX(0,IF(E32<D32,E32+1,E32)-MAX(D32,設定!$E$6))) | K32: =IF(C32="有給",1,IF(C32="半休",0.5,""))
A33: =IFERROR(IF(MONTH(DATE($B$2,$D$2,24))=$D$2,DATE($B$2,$D$2,24),""),"") -> 46166 | B33: =IF(A33="","",TEXT(A33,"aaa")) -> 日 | G33: =IF(OR(D33="",E33=""),"",MAX(0,IF(E33<D33,E33+1,E33)-D33-IF(F33="",0,F33))) | H33: =IF(A33="","",IF(OR(C33="休日",C33="有給",C33="欠勤",C33="休日出勤"),0,IF(C33="半休",$B$3/2,$B$3))) -> 0.33333333 | I33: =IF(OR(G33="",H33=""),"",MAX(0,G33-H33)) | J33: =IF(OR(D33="",E33=""),"",MAX(0,IF(E33<D33,E33+1,E33)-MAX(D33,設定!$E$6))) | K33: =IF(C33="有給",1,IF(C33="半休",0.5,""))
A34: =IFERROR(IF(MONTH(DATE($B$2,$D$2,25))=$D$2,DATE($B$2,$D$2,25),""),"") -> 46167 | B34: =IF(A34="","",TEXT(A34,"aaa")) -> 月 | G34: =IF(OR(D34="",E34=""),"",MAX(0,IF(E34<D34,E34+1,E34)-D34-IF(F34="",0,F34))) | H34: =IF(A34="","",IF(OR(C34="休日",C34="有給",C34="欠勤",C34="休日出勤"),0,IF(C34="半休",$B$3/2,$B$3))) -> 0.33333333 | I34: =IF(OR(G34="",H34=""),"",MAX(0,G34-H34)) | J34: =IF(OR(D34="",E34=""),"",MAX(0,IF(E34<D34,E34+1,E34)-MAX(D34,設定!$E$6))) | K34: =IF(C34="有給",1,IF(C34="半休",0.5,""))
A35: =IFERROR(IF(MONTH(DATE($B$2,$D$2,26))=$D$2,DATE($B$2,$D$2,26),""),"") -> 46168 | B35: =IF(A35="","",TEXT(A35,"aaa")) -> 火 | G35: =IF(OR(D35="",E35=""),"",MAX(0,IF(E35<D35,E35+1,E35)-D35-IF(F35="",0,F35))) | H35: =IF(A35="","",IF(OR(C35="休日",C35="有給",C35="欠勤",C35="休日出勤"),0,IF(C35="半休",$B$3/2,$B$3))) -> 0.33333333 | I35: =IF(OR(G35="",H35=""),"",MAX(0,G35-H35)) | J35: =IF(OR(D35="",E35=""),"",MAX(0,IF(E35<D35,E35+1,E35)-MAX(D35,設定!$E$6))) | K35: =IF(C35="有給",1,IF(C35="半休",0.5,""))
A36: =IFERROR(IF(MONTH(DATE($B$2,$D$2,27))=$D$2,DATE($B$2,$D$2,27),""),"") -> 46169 | B36: =IF(A36="","",TEXT(A36,"aaa")) -> 水 | G36: =IF(OR(D36="",E36=""),"",MAX(0,IF(E36<D36,E36+1,E36)-D36-IF(F36="",0,F36))) | H36: =IF(A36="","",IF(OR(C36="休日",C36="有給",C36="欠勤",C36="休日出勤"),0,IF(C36="半休",$B$3/2,$B$3))) -> 0.33333333 | I36: =IF(OR(G36="",H36=""),"",MAX(0,G36-H36)) | J36: =IF(OR(D36="",E36=""),"",MAX(0,IF(E36<D36,E36+1,E36)-MAX(D36,設定!$E$6))) | K36: =IF(C36="有給",1,IF(C36="半休",0.5,""))
A37: =IFERROR(IF(MONTH(DATE($B$2,$D$2,28))=$D$2,DATE($B$2,$D$2,28),""),"") -> 46170 | B37: =IF(A37="","",TEXT(A37,"aaa")) -> 木 | G37: =IF(OR(D37="",E37=""),"",MAX(0,IF(E37<D37,E37+1,E37)-D37-IF(F37="",0,F37))) | H37: =IF(A37="","",IF(OR(C37="休日",C37="有給",C37="欠勤",C37="休日出勤"),0,IF(C37="半休",$B$3/2,$B$3))) -> 0.33333333 | I37: =IF(OR(G37="",H37=""),"",MAX(0,G37-H37)) | J37: =IF(OR(D37="",E37=""),"",MAX(0,IF(E37<D37,E37+1,E37)-MAX(D37,設定!$E$6))) | K37: =IF(C37="有給",1,IF(C37="半休",0.5,""))
A38: =IFERROR(IF(MONTH(DATE($B$2,$D$2,29))=$D$2,DATE($B$2,$D$2,29),""),"") -> 46171 | B38: =IF(A38="","",TEXT(A38,"aaa")) -> 金 | G38: =IF(OR(D38="",E38=""),"",MAX(0,IF(E38<D38,E38+1,E38)-D38-IF(F38="",0,F38))) | H38: =IF(A38="","",IF(OR(C38="休日",C38="有給",C38="欠勤",C38="休日出勤"),0,IF(C38="半休",$B$3/2,$B$3))) -> 0.33333333 | I38: =IF(OR(G38="",H38=""),"",MAX(0,G38-H38)) | J38: =IF(OR(D38="",E38=""),"",MAX(0,IF(E38<D38,E38+1,E38)-MAX(D38,設定!$E$6))) | K38: =IF(C38="有給",1,IF(C38="半休",0.5,""))
A39: =IFERROR(IF(MONTH(DATE($B$2,$D$2,30))=$D$2,DATE($B$2,$D$2,30),""),"") -> 46172 | B39: =IF(A39="","",TEXT(A39,"aaa")) -> 土 | G39: =IF(OR(D39="",E39=""),"",MAX(0,IF(E39<D39,E39+1,E39)-D39-IF(F39="",0,F39))) | H39: =IF(A39="","",IF(OR(C39="休日",C39="有給",C39="欠勤",C39="休日出勤"),0,IF(C39="半休",$B$3/2,$B$3))) -> 0.33333333 | I39: =IF(OR(G39="",H39=""),"",MAX(0,G39-H39)) | J39: =IF(OR(D39="",E39=""),"",MAX(0,IF(E39<D39,E39+1,E39)-MAX(D39,設定!$E$6))) | K39: =IF(C39="有給",1,IF(C39="半休",0.5,""))
A40: =IFERROR(IF(MONTH(DATE($B$2,$D$2,31))=$D$2,DATE($B$2,$D$2,31),""),"") -> 46173 | B40: =IF(A40="","",TEXT(A40,"aaa")) -> 日 | G40: =IF(OR(D40="",E40=""),"",MAX(0,IF(E40<D40,E40+1,E40)-D40-IF(F40="",0,F40))) | H40: =IF(A40="","",IF(OR(C40="休日",C40="有給",C40="欠勤",C40="休日出勤"),0,IF(C40="半休",$B$3/2,$B$3))) -> 0.33333333 | I40: =IF(OR(G40="",H40=""),"",MAX(0,G40-H40)) | J40: =IF(OR(D40="",E40=""),"",MAX(0,IF(E40<D40,E40+1,E40)-MAX(D40,設定!$E$6))) | K40: =IF(C40="有給",1,IF(C40="半休",0.5,""))

Sheet 設定
A1: 設定シート（勤務区分・標準値）
A3: 勤務区分一覧 | B3: 説明 | D3: 標準値（変更可）
A4: 通常勤務 | B4: 通常の出勤日 | D4: 標準所定労働時間 (1日) | E4: 0.33333333
A5: 休日 | B5: 会社の所定休日 | D5: 標準休憩時間 | E5: 0.041666667
A6: 有給 | B6: 有給休暇（1日） | D6: 深夜時間帯（開始） | E6: 0.91666667
A7: 半休 | B7: 半日有給（0.5日換算） | D7: 深夜時間帯（終了） | E7: 0.20833333
A8: 欠勤 | B8: 欠勤（無給）
A9: 遅刻 | B9: 遅刻（出勤時刻に反映）
A10: 早退 | B10: 早退（退勤時刻に反映）
A11: 休日出勤 | B11: 休日の出勤
A13: セル背景色の凡例
A14: 入力欄 | B14: あなたが値を入力するセルです
A15: 自動計算欄 | B15: 数式が入っているので触らないでください
A16: 月間集計欄 | B16: 月単位の集計が表示されます
A17: サンプルデータ | B17: 削除してから本番利用してください
A18: 土曜日 | B18: 条件付き書式で自動的に色が付きます
A19: 日曜日 | B19: 条件付き書式で自動的に色が付きます

Sheet 使い方
A1: 勤務表テンプレートの使い方
A3: 1. 年月の入力
A4: 「勤務表」シートのB2セルに年（例: 2026）、D2セルに月（例: 5）を半角数字で入力します。入力すると、A列の日付（5/1, 5/2, ...）とB列の曜日（金, 土, 日, ...）が自動で表示されます。月末が31日に満たない月（2月、4月、6月、9月、11月）では、存在しない日付の行は自動で空欄になります。
A5: 2. 従業員名・所属の入力
A6: G2セルに従業員名、K2セルに所属を入力します。1ファイルにつき従業員1名分の勤務記録を管理する形式です。複数の従業員がいる場合は、ファイルをコピーして従業員ごとに保存してください。
A7: 3. 所定労働時間の設定
A8: B3セルに1日あたりの所定労働時間を「8:00」のように時刻形式で入力します。残業時間は「実働時間 − 所定労働時間」で算出されるため、この値が基準になります。半休の日は自動的に「所定 ÷ 2」が所定労働時間として適用されます。
A9: 4. 勤務区分の選び方
A10: C列のセルをクリックすると右側に▼が表示されます。クリックすると以下の8つから選択できます。 ・通常勤務／休日／有給／半休／欠勤／遅刻／早退／休日出勤
A11: 5. 出勤・退勤・休憩時間の入力
A12: D列に出勤時刻、E列に退勤時刻、F列に休憩時間を「9:00」「18:30」「1:00」のように半角でコロン区切りで入力してください。 休憩を入力しない場合は0として計算されます。
A13: 6. 自動計算される項目
... A22: ・薄黄＝入力欄／薄灰＝自動計算欄／薄緑＝月間集計欄 ・薄オレンジ＝サンプルデータ（削除してご利用ください） ・水色＝土曜日／薄ピンク＝日曜日（条件付き書式で自動表示）
